BEGIN:VCALENDAR
VERSION:2.0
PRODID:-//strattonfoundation.org//NONSGML kigkonsult.se iCalcreator 2.30.10
 //
CALSCALE:GREGORIAN
METHOD:PUBLISH
UID:f46e997c-f74b-41d8-8271-52d0ed84f113
X-WR-CALDESC:The most magical event of the season and your only chance to s
 ki through the night on lighted trails at Stratton.  Set your fundraising 
 goals and change lives for children in Vermont through the mission of the 
 Stratton Community Foundation.
X-WR-RELCALID:ac97b50a3e021faaad4f20d5651a4e67
X-WR-TIMEZONE:America/New_York
BEGIN:VTIMEZONE
TZID:America/New_York
BEGIN:STANDARD
TZNAME:EST
DTSTART:20251102T020000
TZOFFSETFROM:-0400
TZOFFSETTO:-0500
RDATE:20261101T020000
END:STANDARD
BEGIN:DAYLIGHT
TZNAME:EDT
DTSTART:20260308T020000
TZOFFSETFROM:-0500
TZOFFSETTO:-0400
RDATE:20270314T020000
END:DAYLIGHT
END:VTIMEZONE
BEGIN:VEVENT
UID:9c4e8b06-0129-47d9-aab7-bafd031c1cd3
DTSTAMP:20260424T194800Z
DESCRIPTION:The most magical event of the season and your only chance to sk
 i through the night on lighted trails at Stratton.  Set your fundraising g
 oals and change lives for children in Vermont through the mission of the S
 tratton Community Foundation.
DTSTART;TZID=America/New_York:20260314T090000
DTEND;TZID=America/New_York:20260315T090000
LOCATION:5 VILLAGE LODGE ROAD\, STRATTON MOUNTAIN RESORT\, STRATTON MOUNTAI
 N\, VT 05155-0000 US
SUMMARY:24 Hours of Stratton
END:VEVENT
END:VCALENDAR
