BEGIN:VCALENDAR
VERSION:2.0
PRODID:-//strattonfoundation.org//NONSGML kigkonsult.se iCalcreator 2.30.10
 //
CALSCALE:GREGORIAN
METHOD:PUBLISH
UID:ae9fb7e6-9ab0-44b2-a5d9-9cb783865a63
X-WR-CALDESC:The race takes place at the bottom of Stratton's legendary rac
 e trail\, Franks Fall Line. Viewing area is at the bottom of the trail bel
 ow the finish shack. This will be a dual panel with an approximate radius 
 of 18-20m. Race day will be published in a comprehensive information sheet
  (coming soon).\n\n#Shred4Nate\, now in its 8th year\, is a dual panel non
 -scored ski race for ages U8 through Masters which raises funds and awaren
 ess around mental health in honor of SWSC athlete Nathan Carreira (2003-20
 18). Nathan was an accomplished alpine racer who took his own life in Marc
 h 2018. At the time of his passing\, a group of Nathan’s Stratton ski frie
 nds decided a race event would be the best way to celebrate his life. Fund
 s raised from the event will go to the Nathan M. Carreira Endowment Fund f
 or mental health and suicide prevention at the Stratton Community Foundati
 on
X-WR-RELCALID:e3d9acf1d4cc3ece6bbf741804bcea5c
X-WR-TIMEZONE:America/New_York
BEGIN:VTIMEZONE
TZID:America/New_York
BEGIN:STANDARD
TZNAME:EST
DTSTART:20251102T020000
TZOFFSETFROM:-0400
TZOFFSETTO:-0500
RDATE:20261101T020000
END:STANDARD
BEGIN:DAYLIGHT
TZNAME:EDT
DTSTART:20260308T020000
TZOFFSETFROM:-0500
TZOFFSETTO:-0400
RDATE:20270314T020000
END:DAYLIGHT
END:VTIMEZONE
BEGIN:VEVENT
UID:44cf3870-6587-4f64-8dc3-f2b0496370d6
DTSTAMP:20260424T194637Z
DESCRIPTION:The race takes place at the bottom of Stratton's legendary race
  trail\, Franks Fall Line. Viewing area is at the bottom of the trail belo
 w the finish shack. This will be a dual panel with an approximate radius o
 f 18-20m. Race day will be published in a comprehensive information sheet 
 (coming soon).\n\n#Shred4Nate\, now in its 8th year\, is a dual panel non-
 scored ski race for ages U8 through Masters which raises funds and awarene
 ss around mental health in honor of SWSC athlete Nathan Carreira (2003-201
 8). Nathan was an accomplished alpine racer who took his own life in March
  2018. At the time of his passing\, a group of Nathan’s Stratton ski frien
 ds decided a race event would be the best way to celebrate his life. Funds
  raised from the event will go to the Nathan M. Carreira Endowment Fund fo
 r mental health and suicide prevention at the Stratton Community Foundatio
 n
DTSTART;TZID=America/New_York:20260314T090000
DTEND;TZID=America/New_York:20260314T160000
LOCATION:5 VILLAGE LODGE ROAD\, STRATTON MOUNTAIN RESORT\, STRATTON MOUNTAI
 N\, VT 05155-0000 US
SUMMARY:#Shred4Nate
END:VEVENT
END:VCALENDAR
