BEGIN:VCALENDAR
VERSION:2.0
PRODID:-//strattonfoundation.org//NONSGML kigkonsult.se iCalcreator 2.30.10
 //
CALSCALE:GREGORIAN
METHOD:PUBLISH
UID:92bce54d-9ba9-4313-a73a-a930c70d2755
X-WR-CALDESC:Join us in the Stratton Village for a free public tree lightin
 g event.  110 trees have been dedicated and sponsored to celebrate loved o
 nes\, the holidays\, the ski season\, friends\, family\, and community.
X-WR-RELCALID:dafcc9e1e64d260e563a21c0e051b266
X-WR-TIMEZONE:America/New_York
BEGIN:VTIMEZONE
TZID:America/New_York
BEGIN:STANDARD
TZNAME:EST
DTSTART:20251102T020000
TZOFFSETFROM:-0400
TZOFFSETTO:-0500
RDATE:20261101T020000
END:STANDARD
BEGIN:DAYLIGHT
TZNAME:EDT
DTSTART:20250309T020000
TZOFFSETFROM:-0500
TZOFFSETTO:-0400
RDATE:20260308T020000
RDATE:20270314T020000
END:DAYLIGHT
END:VTIMEZONE
BEGIN:VEVENT
UID:2fc4dbb9-f84c-4731-91cf-7029472503f1
DTSTAMP:20260425T021853Z
DESCRIPTION:Join us in the Stratton Village for a free public tree lighting
  event.  110 trees have been dedicated and sponsored to celebrate loved on
 es\, the holidays\, the ski season\, friends\, family\, and community.
DTSTART;TZID=America/New_York:20251129T173000
DTEND;TZID=America/New_York:20251129T190000
LOCATION:5 VILLAGE LODGE ROAD\, STRATTON MOUNTAIN RESORT\, STRATTON MOUNTAI
 N\, VT 05155-0000 US
SUMMARY:Snowlight in Vermont Stratton Village Tree Lighting
END:VEVENT
END:VCALENDAR
